BEGIN:VCALENDAR
VERSION:2.0
PRODID:-//GIDRM - ECPv6.15.20//NONSGML v1.0//EN
CALSCALE:GREGORIAN
METHOD:PUBLISH
X-WR-CALNAME:GIDRM
X-ORIGINAL-URL:https://www.gidrm.org
X-WR-CALDESC:Events for GIDRM
REFRESH-INTERVAL;VALUE=DURATION:PT1H
X-Robots-Tag:noindex
X-PUBLISHED-TTL:PT1H
BEGIN:VTIMEZONE
TZID:Europe/Rome
BEGIN:DAYLIGHT
TZOFFSETFROM:+0100
TZOFFSETTO:+0200
TZNAME:CEST
DTSTART:20250330T010000
END:DAYLIGHT
BEGIN:STANDARD
TZOFFSETFROM:+0200
TZOFFSETTO:+0100
TZNAME:CET
DTSTART:20251026T010000
END:STANDARD
BEGIN:DAYLIGHT
TZOFFSETFROM:+0100
TZOFFSETTO:+0200
TZNAME:CEST
DTSTART:20260329T010000
END:DAYLIGHT
BEGIN:STANDARD
TZOFFSETFROM:+0200
TZOFFSETTO:+0100
TZNAME:CET
DTSTART:20261025T010000
END:STANDARD
BEGIN:DAYLIGHT
TZOFFSETFROM:+0100
TZOFFSETTO:+0200
TZNAME:CEST
DTSTART:20270328T010000
END:DAYLIGHT
BEGIN:STANDARD
TZOFFSETFROM:+0200
TZOFFSETTO:+0100
TZNAME:CET
DTSTART:20271031T010000
END:STANDARD
END:VTIMEZONE
BEGIN:VEVENT
DTSTART;VALUE=DATE:20260909
DTEND;VALUE=DATE:20260912
DTSTAMP:20260423T013410
CREATED:20260422T140454Z
LAST-MODIFIED:20260422T160113Z
UID:9495-1788912000-1789171199@www.gidrm.org
SUMMARY:53rd National Conference on Magnetic Resonance
DESCRIPTION:Organization\n				Organising Committee\nRoberto Fattorusso – University of Campania \nCarla Isernia – University of Campania \nGaetano Malgieri – University of Campania \nLuigi Russo – University of Campania \nGiovanna Valentino – University of Campania \nGianluca D’Abrosca – Link Campus University \nMaria della Valle – CNR-IC \nMartina Dragone – University of Campania \nClementina Acconcia – University of Naples Federico II \n  \n\n  \nScientific Committee\nMichele Chierotti – University of Turin \nElisa Carignani – CNR-ICCOM-Pisa \nDaniela Lalli – Università del Piemonte Orientale \nLaura Ragona – CNR-SCITEC Milano \nAntonio Randazzo – University of Naples Federico II \nValeria Righi – University of Bologna \nLuigi Russo – University of Campania \n\n  \nSponsors\n \n  \n\n\nwith the endorsement of\n\n\n\n\n\n\n\n\n			\n				\n				\n				\n				\n				Information\n				Venue\nUniversità degli Studi della Campania\nDipartimento di Scienze e Tecnologie Ambientali Biologiche e Farmaceutiche\nVia Vivaldi\, 43\n81100 Caserta\n\n\n\nHow to reach us\n  \nGoogle Maps Position\nhttps://maps.app.goo.gl/wz3aT9y1e8XLGG9DA \n\n\nBy Plane\nThe closest Airport is the Naples Capodichino International Airport. From the airport you can rich the department in around 30 minutes by bus (https://aircampania.it/wp-content/uploads/2025/02/QO_04-NA_22_04_24-3.pdf)  or taxi (75 euro)    \n\n  \nBy Train\n\nThe department is a 5 minutes’ walk from Caserta train station \n  \n By Car\n\nIt is not allowed to use our on-campus car park for participants\, but there are nearby car parks less than 5 minutes by walk that cost 1 euro/day. You can find a short list of some car parking places below: \nParcheggio\, Viale Abramo Lincoln 12 – 81100 Caserta. \nParcheggio\, Via Feudo di San Martino 3\, 81100 Caserta CE\, Italia. \n			\n				\n				\n				\n				\n				Topics & Program\n				Coming Soon!\nStay tuned…\n			\n				\n				\n				\n				\n				Invited Speakers\n				The following speakers have so far agreed to give plenary lectures at the meeting:\nMarina Carravetta (University of Southampton) \nIola Duarte (University of Aveiro) \nSimonetta Geninatti Crich (University of Turin) \nRoberto Gobetto (University of Turin) \nVincenzo Venditti (Iowa State University) \nWinner of the GIDRM/GIRM Gold Medal 2026 (to be awarded) \n\n\n\nThe following keynote speakers have so far agreed to give lectures at the meeting:\nSilvia Borsacchi\, CNR-ICCOM-Pisa \nFabio Carniato\, University of Piemonte Orientale \nMarco Fragai\, University of Firenze \nCarla Isernia\, University of Campania \nSalvo Mamone\, University of L’Aquila \nMichele Mauri\, University of Milano Bicocca \nNoemi Proietti\, CNR Roma \nMarina Veronesi\, IIT-Genova \n			\n				\n				\n				\n				\n				Abstracts and Communications\n				Abstracts\nThe deadline for abstract submission is May 31\, 2026. \nOne page abstract (please use the Word template provided)   \nand upload it in this Google form  \nYou will be notified of the acceptance of your contribution by June 17\, 2026. \n  \n\n  \nOral Communications\nThe duration for oral presentations of scientific contributions is restricted to a maximum of 15 minutes\, with precise timing information to be shared after the abstract has been accepted. \nThe official language of the meeting is English. \n  \n\n\nPosters\nThe language for posters is English. \nPosters size must be 60 cm in width and 90 cm in height (please use the portrait format). \n  \n\n  \nPoster Contest\nAll posters presented by under 35 researchers are eligible to take part in the GIDRM poster contest. \nThe posters presented by young researchers who are entitled to an Attendance Grant are automatically part of the competition. \nA panel consisting of all international invited speakers will evaluate the posters. \nEach of the 3 winners of the Poster Contest will receive a prize of 200 euros and will present their posters as an oral communication of 10 minutes (7’ + 3’ dedicated to questions). \n			\n				\n				\n				\n				\n				Registration & Fees\n				Deadline\nThe early registration deadline is July 10th 2026 \n  \n\n  \nFee\nThe registration fee\, which includes coffee breaks\, lunches and the social dinner\, is: \n  \n\n\n\n\n\nBefore \nJuly 10th\, 2026 \n\n\nAfter \nJuly 10th\, 2026 \n\n\n\nGIDRM Members\n320 Euros\n400 Euros\n\n\nnon-GIDRM Members\n400 Euros\n480 Euros\n\n\n\n  \nIt is possible to register for a single day at a cost € 150 for GIDRM members and of € 180 for non members. \nIf you are a GIDRM member but still require the invoice please contact pagamenti@gidrm.org  \nPlease note that to be entitled to pay the GIDRM member registration fee it is sufficient to subscribe the GIDRM membership for 2026. \nTo attend the event\, you must purchase the ticket of your choice at the top of this page. \nYou must be registered and logged into the GIDRM website to purchase tickets. \nTo complete the purchase\, you will need to complete the registration form. \n– If you don’t have an account yet\, create one on the home page of the site by clicking below on the red “Become a member” button (the account on the old site is no longer valid) and selecting “Free Membership”. After a succesful registration log in into your new account\, return to this page and buy the ticket you want; \n \n– If you are already registered or a GIDRM member\, please login to your account and go to the top of this page and buy the ticket. \nThe registration fee can be paid by Credit Card or PayPal or Bank Transfer. In order to pay by bank transfer please contact pagamenti@gidrm.org \nIn the case you should encounter any difficulty in filling the form\, please contact us by e-mail at: caserta2026@gidrm.org \n\n  \nAttendance Grants\nA limited number of Attendance Grants will be available for early career (under 35) researchers. \nIf you are an under 35 researcher and want to apply for a GIDRM grant\, please submit your abstract ONLY IN WORD (.doc) FORMAT\, your curriculum vitae (using this template) and a presentation letter from your research supervisor before May 31th 2026 using this Google form module  \nThese grants are specifically designated for regular members of GIDRM who have enrolled in the membership for the year 2026. \nGIDRM grants will cover for either the registration fee or accommodation expenses (accommodation will be booked by the organizers)\, or potentially both\, based on the available budget. \nAttendant Grants will be allocated by 17 June 2026. \nStudents applying for a grant are kindly requested to wait for the results before proceeding with registration. \nThose who are awarded a grant will receive a code for their registration process. \n\n\nCancellation and Refunds\nNotification of cancellation must be sent to the congress e-mail address caserta2026@gidrm.org \nIf cancellation is made before August 20\, 2026\, 90% of the registration fee will be refunded. \nNo refund will be given for cancellation requests reaching the GIDRM after August 20\, 2026. \nAll refunds will be processed after the congress. \nRefund claims must include bank address and account number for money transfer. \n			\n				\n				\n				\n				\n				Accommodation\n				Accommodation is NOT included in the registration fee. \nParticipants are kindly invited to book their own hotel rooms. \nIMPORTANT: to save money and benefit from the best prices\, please book your accommodation in Caserta as soon as you can.  \n\nHere a list of suggested hotels\nhttps://www.villamariacristina.eu/ \nhttps://www.royalcaserta.it/ \nhttps://www.hoteleuropacaserta.com/ \nhttps://www.hotelreginacaserta.it/ \nhttps://hotelbruman.it/
URL:https://www.gidrm.org/event/53rd-national-conference-on-magnetic-resonance/
LOCATION:DiSTABiF – Dipartimento di Scienze e Tecnologie Ambientali\, Biologiche e Farmaceutiche dell’Università degli Studi della Campania “Luigi Vanvitelli”\, Via Antonio Vivaldi 43\, Caserta\, CE\, 81100\, Italy
CATEGORIES:GIDRM National Congresses
ATTACH;FMTTYPE=image/jpeg:https://www.gidrm.org/wp-content/uploads/2026/04/Locandina-Caserta-2026_rev8-scaled.jpg
ORGANIZER;CN="caserta2026":MAILTO:caserta2026@gidrm.org
END:VEVENT
END:VCALENDAR