BEGIN:VCALENDAR
VERSION:2.0
PRODID:-//GIDRM - ECPv6.15.20//NONSGML v1.0//EN
CALSCALE:GREGORIAN
METHOD:PUBLISH
X-WR-CALNAME:GIDRM
X-ORIGINAL-URL:https://www.gidrm.org
X-WR-CALDESC:Events for GIDRM
REFRESH-INTERVAL;VALUE=DURATION:PT1H
X-Robots-Tag:noindex
X-PUBLISHED-TTL:PT1H
BEGIN:VTIMEZONE
TZID:Europe/Rome
BEGIN:DAYLIGHT
TZOFFSETFROM:+0100
TZOFFSETTO:+0200
TZNAME:CEST
DTSTART:20210328T010000
END:DAYLIGHT
BEGIN:STANDARD
TZOFFSETFROM:+0200
TZOFFSETTO:+0100
TZNAME:CET
DTSTART:20211031T010000
END:STANDARD
BEGIN:DAYLIGHT
TZOFFSETFROM:+0100
TZOFFSETTO:+0200
TZNAME:CEST
DTSTART:20220327T010000
END:DAYLIGHT
BEGIN:STANDARD
TZOFFSETFROM:+0200
TZOFFSETTO:+0100
TZNAME:CET
DTSTART:20221030T010000
END:STANDARD
BEGIN:DAYLIGHT
TZOFFSETFROM:+0100
TZOFFSETTO:+0200
TZNAME:CEST
DTSTART:20230326T010000
END:DAYLIGHT
BEGIN:STANDARD
TZOFFSETFROM:+0200
TZOFFSETTO:+0100
TZNAME:CET
DTSTART:20231029T010000
END:STANDARD
END:VTIMEZONE
BEGIN:VEVENT
DTSTART;TZID=Europe/Rome:20221201T130000
DTEND;TZID=Europe/Rome:20221201T174500
DTSTAMP:20260424T215957
CREATED:20230103T214509Z
LAST-MODIFIED:20230103T214513Z
UID:2426-1669899600-1669916700@www.gidrm.org
SUMMARY:GIDRM Day – Mobile low-field MRI: Technology developments and clinical applications in neurological disorders
DESCRIPTION:Thursday\, 1st December 2022\, Online on Zoom\nThe aim of the GIDRM Workshop is to illustrate the recent technological advances of mobile low-field (10-200 mT) MRI and the related clinical applications for neurological disorders. The workshop will bring together the national and international community of those involved in instrumental and methodological development (physicists\, engineers\, chemists\, biologists\, etc.) and those working in hospital departments (radiologists\, neuroradiologists\, neurologists\, resuscitation\, etc.) to ensure a timely diagnostic imaging service. The effects of mobile MRI technology are significant both for the improvement of in-hospital diagnostics\, with evident advantages for patients in the acute phase\, and for the Health’s service budget. \nAttendance is free but participants need to register \nA Zoom link will be provided via e-mail to all participants before the event \nTo attend this event please compile this form  \nDownload the flyer in pdf  \nFor any additional info and contacts: mobileMRI@gidrm.org \n \n \n \n\n\n\n\n \n\n\n\n \n\n\n\n\n\n\n\n\n\n\n\n\n 
URL:https://www.gidrm.org/event/gidrm-day-mobile-low-field-mri-technology-developments-and-clinical-applications-in-neurological-disorders/
LOCATION:Online on Zoom
CATEGORIES:GIDRM Workshops,2022 Workshops
ATTACH;FMTTYPE=image/png:https://www.gidrm.org/wp-content/uploads/2022/03/conference_illustration_01.png
ORGANIZER;CN="mobileMRI":MAILTO:mobileMRI@gidrm.org
END:VEVENT
END:VCALENDAR