BEGIN:VCALENDAR
VERSION:2.0
PRODID:-//GIDRM - ECPv6.15.20//NONSGML v1.0//EN
CALSCALE:GREGORIAN
METHOD:PUBLISH
X-WR-CALNAME:GIDRM
X-ORIGINAL-URL:https://www.gidrm.org
X-WR-CALDESC:Events for GIDRM
REFRESH-INTERVAL;VALUE=DURATION:PT1H
X-Robots-Tag:noindex
X-PUBLISHED-TTL:PT1H
BEGIN:VTIMEZONE
TZID:Europe/Rome
BEGIN:DAYLIGHT
TZOFFSETFROM:+0100
TZOFFSETTO:+0200
TZNAME:CEST
DTSTART:20240331T010000
END:DAYLIGHT
BEGIN:STANDARD
TZOFFSETFROM:+0200
TZOFFSETTO:+0100
TZNAME:CET
DTSTART:20241027T010000
END:STANDARD
BEGIN:DAYLIGHT
TZOFFSETFROM:+0100
TZOFFSETTO:+0200
TZNAME:CEST
DTSTART:20250330T010000
END:DAYLIGHT
BEGIN:STANDARD
TZOFFSETFROM:+0200
TZOFFSETTO:+0100
TZNAME:CET
DTSTART:20251026T010000
END:STANDARD
BEGIN:DAYLIGHT
TZOFFSETFROM:+0100
TZOFFSETTO:+0200
TZNAME:CEST
DTSTART:20260329T010000
END:DAYLIGHT
BEGIN:STANDARD
TZOFFSETFROM:+0200
TZOFFSETTO:+0100
TZNAME:CET
DTSTART:20261025T010000
END:STANDARD
END:VTIMEZONE
BEGIN:VEVENT
DTSTART;VALUE=DATE:20250922
DTEND;VALUE=DATE:20250925
DTSTAMP:20260424T170421
CREATED:20250903T074252Z
LAST-MODIFIED:20250903T084550Z
UID:8301-1758499200-1758758399@www.gidrm.org
SUMMARY:Scientific School: "NMR in Drug Discovery"
DESCRIPTION:Il corso di alta formazione “NMR IN DRUG DISCOVERY“\, organizzato da Sardegna Ricerche e Porto Conte Ricerche\, con il Patrocinio del Gruppo Italiano Discussione Risonanze Magnetiche (GIDRM) si propone di fornire una solida introduzione teorico-pratica all’uso della spettroscopia di Risonanza Magnetica Nucleare (NMR) con particolare riferimento alle applicazioni per lo studio delle interazioni biomolecolari in ambito drug discovery. \nL’iniziativa nasce dalla collaborazione tra le due sedi del parco scientifico e tecnologico della Sardegna\, Pula e Alghero\, nell’ambito di un progetto volto all’integrazione delle piattaforme di Risonanza Magnetica Nucleare. \nCompetenze specialistiche nei settori più tecnologici\, come la gestione di strumentazione avanzata quale la spettroscopia NMR ad alta risoluzione applicata allo studio di sistemi biologici e impiegata in numerosi settori della ricerca scientifica\, sono fondamentali nella creazione di nuove figure professionali strategiche e immediatamente operative\, oggi estremamente richieste nei settori biotech\, pharma e ricerca strutturale. \n  \n\nFor more information please visit https://www.nmrindrugdiscovery.it
URL:https://www.gidrm.org/event/scientific-school-nmr-in-drug-discovery/
LOCATION:PARCO SCIENTIFICO E TECNOLOGICO SARDEGNA RICERCHE – PULA\, Sardegna Ricerche\, località Piscina Manna\, Pula\, CA\, 09010\, Italy
CATEGORIES:2025 Endorsed Activities,Endorsed Activities
ATTACH;FMTTYPE=image/jpeg:https://www.gidrm.org/wp-content/uploads/2025/09/Programma-22-24.09.2025.jpg
ORGANIZER;CN="Roberto Anedda":MAILTO:anedda@portocontericerche.it
END:VEVENT
END:VCALENDAR