BEGIN:VCALENDAR
VERSION:2.0
PRODID:-//GIDRM - ECPv6.15.20//NONSGML v1.0//EN
CALSCALE:GREGORIAN
METHOD:PUBLISH
X-ORIGINAL-URL:https://www.gidrm.org
X-WR-CALDESC:Events for GIDRM
REFRESH-INTERVAL;VALUE=DURATION:PT1H
X-Robots-Tag:noindex
X-PUBLISHED-TTL:PT1H
BEGIN:VTIMEZONE
TZID:Europe/Rome
BEGIN:DAYLIGHT
TZOFFSETFROM:+0100
TZOFFSETTO:+0200
TZNAME:CEST
DTSTART:20240331T010000
END:DAYLIGHT
BEGIN:STANDARD
TZOFFSETFROM:+0200
TZOFFSETTO:+0100
TZNAME:CET
DTSTART:20241027T010000
END:STANDARD
BEGIN:DAYLIGHT
TZOFFSETFROM:+0100
TZOFFSETTO:+0200
TZNAME:CEST
DTSTART:20250330T010000
END:DAYLIGHT
BEGIN:STANDARD
TZOFFSETFROM:+0200
TZOFFSETTO:+0100
TZNAME:CET
DTSTART:20251026T010000
END:STANDARD
BEGIN:DAYLIGHT
TZOFFSETFROM:+0100
TZOFFSETTO:+0200
TZNAME:CEST
DTSTART:20260329T010000
END:DAYLIGHT
BEGIN:STANDARD
TZOFFSETFROM:+0200
TZOFFSETTO:+0100
TZNAME:CET
DTSTART:20261025T010000
END:STANDARD
END:VTIMEZONE
BEGIN:VEVENT
DTSTART;VALUE=DATE:20250225
DTEND;VALUE=DATE:20250301
DTSTAMP:20260420T035000
CREATED:20241204T112155Z
LAST-MODIFIED:20251204T142754Z
UID:10000036-1740441600-1740787199@www.gidrm.org
SUMMARY:Scuola di Risonanza Magnetica per lo Studio di Biomolecole
DESCRIPTION:Informazioni\n				Si terrà quest’anno\, presso il Dipartimento di Scienze e Tecnologie Ambientali Biologiche e Farmaceutiche dell’Università degli Studi della Campania\, il primo corso NMR per lo studio di biomolecole istituito dal GIDRM. \nScarica la locandina in PDF \nData: 25 – 28 Febbraio 2025 \nSede: Dipartimento di Scienze e Tecnologie Ambientali Biologiche e Farmaceutiche dell’Università degli Studi della Campania\, Via Vivaldi 43\, 81100 Caserta. \nModalità: esclusivamente in presenza. Le lezioni si svolgeranno in italiano con l’uso di diapositive in inglese. \nComitato organizzatore: Luigi Russo\, Giacomo Parigi\, Roberto Fattorusso\, Carla Isernia\, Gaetano Malgieri. \nCome raggiungerci: \nLa sede della scuola si raggiunge: \n-dalla stazione ferroviaria di Caserta 5 minuti a piedi. Il Dipartimento di Scienze e Tecnologie Ambientali Biologiche e Farmaceutiche si trova a 300 m procedendo a sinistra all’uscita della stazione lato via Vivaldi. \n-dall’aeroporto di Napoli Capodichino: in taxi (20 minuti\, 25 euro circa) \n			\n				\n				\n				\n				\n				Iscrizione\n				LE ISCRIZIONI SONO APERTE DAL 3 GENNAIO FINO AL15 FEBBRAIO 2025 \nLa quota di iscrizione è di 130 Euro per partecipanti che provengono dall’accademia e di 150 Euro per i partecipanti che provengono dall’industria e comprende l’iscrizione alla scuola\, il materiale didattico\, il costo dei coffee break e lunch. L’iscrizione alla scuola include il costo di iscrizione al GIDRM per l’anno 2025. \nPer iscriversi e’ necessario: \n1) Entrare nel proprio account facendo il login al sito in alto in questa pagina nella sezione “tickets” cliccando su “login to purchase”\, oppure tornando in testa alla pagina nel menu “membership –> Log In”\, oppure tornando in home page nel barra laterale in alto a destra. \nQualora non si fosse registrati al sito GIDRM si puo’ creare un nuovo account gratuito. Essere registrati al sito e’ necessario per poter acquistare il ticket per l’evento. \nPer registrarsi cliccare qui sotto \n \n2) Acquistare il ticket/pacchetto iscrizione desiderato in alto in questa pagina\, e compilare la scheda di registrazione all’evento \n			\n				\n				\n				\n				\n				Finalita'\n				Scopo della scuola è quello di fornire allo studente le nozioni teoriche e pratiche necessarie all’utilizzo delle moderne tecniche di Risonanza Magnetica Nucleare per lo studio delle proprietà strutturali e dinamiche di biomolecole. \nNella parte pratica verranno acquisiti esperimenti NMR 2D and 3D utilizzando uno spettrometro Bruker di ultimissima generazione. \n			\n				\n				\n				\n				\n				Programma\n				SCUOLA DI RISONANZA MAGNETICA NUCLEARE PER LO STUDIO DI BIOMOLECOLE \n  \nUniversità degli Studi della Campania – Dipartimento di Scienze e Tecnologie Ambientali Biologiche e Farmaceutiche \nCaserta\, 25-28 febbraio 2025 \nProgramma\nScarica il programma della scuola in PDF \n\n25 FEBBRAIO \n\n\n\n\n12:30 – 14:30 \n\n\nRegistrazione \n\n\n\n\n14:30 – 16:30 \n\n\nStrategie di marcatura isotopica per studi di proteine e acidi nucleici \nM. D’Onofrio \n(Università degli Studi di Verona) \n\n\n\n\n16:30 – 17:00 \n\n\nCoffee break \n\n\n\n\n17:00 –19:00 \n\n\nEsperimenti NMR in tripla risonanza per l’assegnazione delle risonanze del backbone proteico e delle catene laterali: strategie di assegnazione \nL. Russo \n(Università degli Studi della Campania) \n\n\n\n\n  \n26 FEBBRAIO \n\n\n\n\n9:00 – 11:00 \n\n\nRestrizioni conformazionali da evidenze NMR: Chemical shifts\, NOEs\, RDCs. Metodi di determinazione\, a livello atomico\, della struttura di macromolecole in soluzione a partire da vincoli conformazionali NMR \nA.    Gallo  \n(Università degli Studi di Torino) \n\n\n\n\n11:00 – 11:30 \n\n\nCoffee break \n\n\n\n\n11:30 –13:30 \n\n\nEffetti paramagnetici per calcoli strutturali e di dinamica \nG. Parigi \n(Università degli Studi di Firenze/CERM) \n\n\n\n\n13:30 – 14:30 \n\n\nLunch break \n\n\n\n\n14:30 – 16:30 \n\n\nApplicazioni NMR per la caratterizzazione strutturale di acidi nucleici \nA. Randazzo \n(Università degli Studi di Napoli) \n\n\n\n\n16:30 – 17:00 \n\n\nCoffee break \n\n\n\n\n17:00 –19:00 \n\n\nTraining 1*: Acquisizione ed elaborazione di spettri 2D e 3D.  \nG. D’Abrosca \n(Università degli Studi della Campania) \n\n\n\n\n \n27 FEBBRAIO \n\n\n\n\n9:00 – 11:00 \n\n\nTeoria del Rilassamento NMR \nD. Cicero \n(Università degli Studi di Roma Tor Vergata) \n\n\n\n\n11:00 – 11:30 \n\n\nCoffee break \n\n\n\n\n11:30 –13:00 \n\n\nStudio della dinamica di macromolecole mediante NMR. \nM. Piccioli  \n(Università degli Studi di Firenze/CERM) \n\n\n\n\n13:00 – 14:00 \n\n\nLunch break \n\n\n\n\n14:00 – 16:00 \n\n\nMetodi NMR per lo studio di processi di aggregazione. \nL. Ragona \n(Consiglio Nazionale delle Ricerche-SCITEC) \n\n\n\n\n16:00 – 16:30 \n\n\nCoffee break \n\n\n\n\n16:30 –18:30 \n\n\nTraining 2*: Acquisizione ed elaborazione di esperimenti NMR per la misura delle velocità di rilassamento e del NOE eteronucleare. \nG. D’Abrosca \n(Università degli Studi della Campania) \n\n\n\n\n  \n28 FEBBRAIO \n\n\n\n\n9:00 – 11:00 \n\n\nApplicazioni NMR per lo studio delle interazioni di macromolecole in soluzione \nC. Airoldi  \n(Università degli Studi di Milano- Bicocca) \n\n\n\n\n11:00 – 11:30 \n\n\nCoffee break \n\n\n\n\n11:30 –12:30 \n\n\nApplicazioni NMR allo stato solido per lo studio di biomolecole \nF. Nardelli \n(Università di Pisa) \n\n\n\n\n12:30 – 13:30 \n\n\nTraining 3*: Acquisizione ed elaborazione di esperimenti NMR per lo studio di interazioni di macromolecole \nG. D’Abrosca \n(Università degli Studi della Campania) \n\n\n\n\n13:30 – 14:30 \n\n\nLunch break \n\n\n\n\n  \n			\n			\n				\n				\n				\n				\n				\n				\n				\n					\n				\n						\n					\n				\n					Issues? \nIf you are experiencing issues with the procedure of buying tickets (tickets not appearing or other issues) we suggest to update the page pressing F5 or CTRL + F5 on your keyboard or clicking the reload button in your browser \n				\n				✕
URL:https://www.gidrm.org/event/primo-corso-nmr-per-lo-studio-di-biomolecole-caserta/
LOCATION:DiSTABiF – Dipartimento di Scienze e Tecnologie Ambientali\, Biologiche e Farmaceutiche dell’Università degli Studi della Campania “Luigi Vanvitelli”\, Via Antonio Vivaldi 43\, Caserta\, CE\, 81100\, Italy
CATEGORIES:Education,Other Schools
ATTACH;FMTTYPE=image/png:https://www.gidrm.org/wp-content/uploads/2025/02/PPT_locandina_FINALISSIMA_3.png
ORGANIZER;CN="Luigi Russo":MAILTO:LUIGI.RUSSO2@unicampania.it
END:VEVENT
END:VCALENDAR