BEGIN:VCALENDAR
VERSION:2.0
PRODID:-//GIDRM - ECPv6.15.20//NONSGML v1.0//EN
CALSCALE:GREGORIAN
METHOD:PUBLISH
X-WR-CALNAME:GIDRM
X-ORIGINAL-URL:https://www.gidrm.org
X-WR-CALDESC:Events for GIDRM
REFRESH-INTERVAL;VALUE=DURATION:PT1H
X-Robots-Tag:noindex
X-PUBLISHED-TTL:PT1H
BEGIN:VTIMEZONE
TZID:Europe/Rome
BEGIN:DAYLIGHT
TZOFFSETFROM:+0100
TZOFFSETTO:+0200
TZNAME:CEST
DTSTART:20210328T010000
END:DAYLIGHT
BEGIN:STANDARD
TZOFFSETFROM:+0200
TZOFFSETTO:+0100
TZNAME:CET
DTSTART:20211031T010000
END:STANDARD
BEGIN:DAYLIGHT
TZOFFSETFROM:+0100
TZOFFSETTO:+0200
TZNAME:CEST
DTSTART:20220327T010000
END:DAYLIGHT
BEGIN:STANDARD
TZOFFSETFROM:+0200
TZOFFSETTO:+0100
TZNAME:CET
DTSTART:20221030T010000
END:STANDARD
BEGIN:DAYLIGHT
TZOFFSETFROM:+0100
TZOFFSETTO:+0200
TZNAME:CEST
DTSTART:20230326T010000
END:DAYLIGHT
BEGIN:STANDARD
TZOFFSETFROM:+0200
TZOFFSETTO:+0100
TZNAME:CET
DTSTART:20231029T010000
END:STANDARD
END:VTIMEZONE
BEGIN:VEVENT
DTSTART;TZID=Europe/Rome:20220214T090000
DTEND;TZID=Europe/Rome:20220214T130000
DTSTAMP:20260424T201806
CREATED:20220919T135749Z
LAST-MODIFIED:20231206T165805Z
UID:10000005-1644829200-1644843600@www.gidrm.org
SUMMARY:GIDRM Day - L'Insegnamento dell'NMR in Italia
DESCRIPTION:Lunedi’\, 14 Febbraio 2022\, Online su Zoom\n\nSCOPO\n\nQuesto workshop ha l’obbiettivo di mettere a confronto le esperienze relative all’insegnamento universitario dell’NMR in tutti i suoi aspetti (concettuali e applicativi\, relativi allo studio di liquidi\, di solidi o all’Imaging) e nelle diverse aree scientifiche (chimica organica\, chimica generale\, chimica fisica\, fisica\, biologia\, biotecnologie\, farmacia\, ecc.). A tale scopo\, oltre a prevedere interventi di docenti che insegnano NMR nelle varie aree\, nel workshop saranno presentati i risultati di una indagine sull’insegnamento dell’NMR condotta da GIDRM su tutte le Università italiane. Inoltre\, saranno previsti interventi relativi a corsi NMR tenuti dal GIDRM (scuola di Torino) e da aziende private. Una tavola rotonda concluderà la giornata.\n\nLa registrazione è gratuita\, ma obbligatoria\, e deve essere effettuata entro venerdì 4 febbraio sabato 12 febbraio seguendo questo link \nUn link Zoom sarà recapitato via email a tutti i partecipanti prima dell’evento.\n\nVisto l’argomento\, la giornata si terrà in via eccezionale in lingua italiana.\n\nGli organizzatori possono essere contattati all’indirizzo teachingNMR2021@gidrm.org\n\nScarica il volantino in formato PDF 
URL:https://www.gidrm.org/event/gidrm-day-linsegnamento-dellnmr-in-italia/
LOCATION:Online on Zoom
CATEGORIES:GIDRM Workshops,2022 Workshops
ATTACH;FMTTYPE=image/png:https://www.gidrm.org/wp-content/uploads/2022/09/conference_illustration_01-300x300-1.png
ORGANIZER;CN="teachingNMR2021":MAILTO:teachingNMR2021@gidrm.org
END:VEVENT
BEGIN:VEVENT
DTSTART;TZID=Europe/Rome:20220121T101500
DTEND;TZID=Europe/Rome:20220121T161500
DTSTAMP:20260424T201806
CREATED:20230103T160123Z
LAST-MODIFIED:20230103T160220Z
UID:10000007-1642760100-1642781700@www.gidrm.org
SUMMARY:GIDRM Day – Simulation Software in Magnetic Resonance
DESCRIPTION:Friday\, 21st January 2022\, Online on Zoom \nAIMSIn this workshop\, the main developers of major simulations software packages used in magnetic resonance summarise the structure and functionality of their code. Selected forefront research topics\, enabled or supported by such software\, will be  resented by a panel of experts in magnetic resonance to further highlight the current capabilities of simulation software in magnetic resonance. \nAttendance is free but participants need to register \nA Zoom link will be provided via e-mail to all participants before the event \nTo attend this event please compile this form  Registrations are closed \nRegistration deadline: 11Jan 2022\, 5pm (CET) \nDownload the flyer in pdf  \n \nSCIENTIFIC COMMITTEE:\n\nGiuseppe Pileio (University of Southampton)\nMarcello Alecci (University of L’Aquila)\nSilvia Borsacchi (CNR Pisa)\nMariapina D’Onofrio (University of Verona)\nSimonetta Geninatti Crich (University of Turin)\nMarco Geppi (University of Pisa)\nGiacomo Parigi (University of Florence)\n\n  \nContacts: soton2021@gidrm.org
URL:https://www.gidrm.org/event/gidrm-day-simulation-software-in-magnetic-resonance/
LOCATION:Online on Zoom
CATEGORIES:GIDRM Workshops,2022 Workshops
ATTACH;FMTTYPE=image/png:https://www.gidrm.org/wp-content/uploads/2022/03/conference_illustration_01.png
ORGANIZER;CN="soton2021":MAILTO:soton2021@gidrm.org
END:VEVENT
END:VCALENDAR