BEGIN:VCALENDAR
VERSION:2.0
PRODID:-//GIDRM - ECPv6.15.20//NONSGML v1.0//EN
CALSCALE:GREGORIAN
METHOD:PUBLISH
X-WR-CALNAME:GIDRM
X-ORIGINAL-URL:https://www.gidrm.org
X-WR-CALDESC:Events for GIDRM
REFRESH-INTERVAL;VALUE=DURATION:PT1H
X-Robots-Tag:noindex
X-PUBLISHED-TTL:PT1H
BEGIN:VTIMEZONE
TZID:Europe/Rome
BEGIN:DAYLIGHT
TZOFFSETFROM:+0100
TZOFFSETTO:+0200
TZNAME:CEST
DTSTART:20210328T010000
END:DAYLIGHT
BEGIN:STANDARD
TZOFFSETFROM:+0200
TZOFFSETTO:+0100
TZNAME:CET
DTSTART:20211031T010000
END:STANDARD
BEGIN:DAYLIGHT
TZOFFSETFROM:+0100
TZOFFSETTO:+0200
TZNAME:CEST
DTSTART:20220327T010000
END:DAYLIGHT
BEGIN:STANDARD
TZOFFSETFROM:+0200
TZOFFSETTO:+0100
TZNAME:CET
DTSTART:20221030T010000
END:STANDARD
BEGIN:DAYLIGHT
TZOFFSETFROM:+0100
TZOFFSETTO:+0200
TZNAME:CEST
DTSTART:20230326T010000
END:DAYLIGHT
BEGIN:STANDARD
TZOFFSETFROM:+0200
TZOFFSETTO:+0100
TZNAME:CET
DTSTART:20231029T010000
END:STANDARD
END:VTIMEZONE
BEGIN:VEVENT
DTSTART;TZID=Europe/Rome:20220608T093000
DTEND;TZID=Europe/Rome:20220608T164500
DTSTAMP:20260425T011105
CREATED:20230103T213452Z
LAST-MODIFIED:20230103T213456Z
UID:10000010-1654680600-1654706700@www.gidrm.org
SUMMARY:GIDRM Day – Low-field NMR-MRI of Porous Media: Methods and Applications
DESCRIPTION:Wednesday\, 8th June 2022\, Online on Zoom \nAttendance is free but participants need to register \nA Zoom link will be provided via e-mail to all participants before the event \nTo attend this event please compile this form  \nRegistration deadline: 5 June 2022 \nDownload the flyer in pdf  \n \nSCIENTIFIC COMMITTEE:\n\nMarco Geppi\nMarcello Alecci\nSilvia Borsacchi\nMariapina D’Onofrio\nSimonetta Geninatti Crich\nGiacomo Parigi\nGiuseppe Pileio\nClaudia Testa\nVilliam Bortolotti\nLeonardo Brizi\n\n  \nLOCAL ORGANIZING COMMITTEE:\n\nClaudia Testa\nVilliam Bortolotti\nLeonardo Brizi\nFabiana Zama\n\n  \nContacts: bologna2022@gidrm.org
URL:https://www.gidrm.org/event/gidrm-day-low-field-nmr-mri-of-porous-media-methods-and-applications/
LOCATION:Online on Zoom
CATEGORIES:GIDRM Workshops,2022 Workshops
ATTACH;FMTTYPE=image/png:https://www.gidrm.org/wp-content/uploads/2022/03/conference_illustration_01.png
ORGANIZER;CN="bologna2022":MAILTO:bologna2022@gidrm.org
END:VEVENT
END:VCALENDAR